BEGIN:VCALENDAR
VERSION:2.0
PRODID:icalendar-ruby
CALSCALE:GREGORIAN
METHOD:PUBLISH
BEGIN:VEVENT
DTSTAMP:20260421T195657Z
UID:11-2013830@praisetemplechurchofgod.com
DTSTART:20260802T150000Z
DTEND:20260802T170000Z
CLASS:PUBLIC
CREATED:20260421T154646
DESCRIPTION:
LAST-MODIFIED:20260421T154646
LOCATION:Praise Temple Church of God Chapel
SUMMARY:Children's Church
URL;VALUE=URI:https://www.praisetemplechurchofgod.com/events/childrens-chur
 ch/2026-08-02
ATTACH;FILENAME=2025-26-Announcements-Presentation.jpg;FMTTYPE=image/jpeg:h
 ttps://dq5pwpg1q8ru0.cloudfront.net/2026/03/30/17/02/17/a8448291-9430-44ff
 -877f-5d4fc94f20ad/2025-26-Announcements-Presentation.jpg
END:VEVENT
END:VCALENDAR
