BEGIN:VCALENDAR
VERSION:2.0
PRODID:icalendar-ruby
CALSCALE:GREGORIAN
METHOD:PUBLISH
BEGIN:VEVENT
DTSTAMP:20260422T023658Z
UID:11-2016212@praisetemplechurchofgod.com
DTSTART:20260830T150000Z
DTEND:20260830T170000Z
CLASS:PUBLIC
CREATED:20260421T210329
DESCRIPTION:
LAST-MODIFIED:20260421T210329
LOCATION:Praise Temple Church of God Chapel
SUMMARY:Children's Church
URL;VALUE=URI:https://www.praisetemplechurchofgod.com/events/childrens-chur
 ch/2026-08-30
ATTACH;FILENAME=2025-26-Announcements-Presentation.jpg;FMTTYPE=image/jpeg:h
 ttps://dq5pwpg1q8ru0.cloudfront.net/2026/03/30/17/02/17/a8448291-9430-44ff
 -877f-5d4fc94f20ad/2025-26-Announcements-Presentation.jpg
END:VEVENT
END:VCALENDAR
